BEGIN:VCALENDAR
VERSION:2.0
PRODID:-//De Gouden Hondenpoot/De gouden massagesalon - ECPv6.15.17.1//NONSGML v1.0//EN
CALSCALE:GREGORIAN
METHOD:PUBLISH
X-WR-CALNAME:De Gouden Hondenpoot/De gouden massagesalon
X-ORIGINAL-URL:https://degoudenhondenpoot.nl
X-WR-CALDESC:Evenementen voor De Gouden Hondenpoot/De gouden massagesalon
REFRESH-INTERVAL;VALUE=DURATION:PT1H
X-Robots-Tag:noindex
X-PUBLISHED-TTL:PT1H
BEGIN:VTIMEZONE
TZID:Europe/Paris
BEGIN:DAYLIGHT
TZOFFSETFROM:+0100
TZOFFSETTO:+0200
TZNAME:CEST
DTSTART:20220327T010000
END:DAYLIGHT
BEGIN:STANDARD
TZOFFSETFROM:+0200
TZOFFSETTO:+0100
TZNAME:CET
DTSTART:20221030T010000
END:STANDARD
BEGIN:DAYLIGHT
TZOFFSETFROM:+0100
TZOFFSETTO:+0200
TZNAME:CEST
DTSTART:20230326T010000
END:DAYLIGHT
BEGIN:STANDARD
TZOFFSETFROM:+0200
TZOFFSETTO:+0100
TZNAME:CET
DTSTART:20231029T010000
END:STANDARD
BEGIN:DAYLIGHT
TZOFFSETFROM:+0100
TZOFFSETTO:+0200
TZNAME:CEST
DTSTART:20240331T010000
END:DAYLIGHT
BEGIN:STANDARD
TZOFFSETFROM:+0200
TZOFFSETTO:+0100
TZNAME:CET
DTSTART:20241027T010000
END:STANDARD
BEGIN:DAYLIGHT
TZOFFSETFROM:+0100
TZOFFSETTO:+0200
TZNAME:CEST
DTSTART:20250330T010000
END:DAYLIGHT
BEGIN:STANDARD
TZOFFSETFROM:+0200
TZOFFSETTO:+0100
TZNAME:CET
DTSTART:20251026T010000
END:STANDARD
END:VTIMEZONE
BEGIN:VEVENT
DTSTART;VALUE=DATE:20240127
DTEND;VALUE=DATE:20240128
DTSTAMP:20260419T163512
CREATED:20240122T153820Z
LAST-MODIFIED:20240122T153820Z
UID:3530-1706313600-1706399999@degoudenhondenpoot.nl
SUMMARY:Outlet in ´t Dierenparadijs grote uitverkoop.
DESCRIPTION:
URL:https://degoudenhondenpoot.nl/gebeurtenis/outlet-in-t-dierenparadijs-grote-uitverkoop/
CATEGORIES:Mijn agenda
END:VEVENT
BEGIN:VEVENT
DTSTART;VALUE=DATE:20240125
DTEND;VALUE=DATE:20240126
DTSTAMP:20260419T163512
CREATED:20240122T152803Z
LAST-MODIFIED:20240122T152803Z
UID:3528-1706140800-1706227199@degoudenhondenpoot.nl
SUMMARY:Gesloten
DESCRIPTION:Wij zijn helaas gesloten in verband met cursusdag.
URL:https://degoudenhondenpoot.nl/gebeurtenis/gesloten/
CATEGORIES:Mijn agenda
END:VEVENT
BEGIN:VEVENT
DTSTART;TZID=Europe/Paris:20231124T193000
DTEND;TZID=Europe/Paris:20231124T210000
DTSTAMP:20260419T163512
CREATED:20231124T121441Z
LAST-MODIFIED:20231124T121441Z
UID:3252-1700854200-1700859600@degoudenhondenpoot.nl
SUMMARY:lezing in ´t Dierenparadijs
DESCRIPTION:Vrijdag 24 november 19:30 uur lezing in ´t Dierenparadijs over vuurwerk ik zal samen met een hondengedragsdeskundige uitleg / advies geven over vuurwerk.
URL:https://degoudenhondenpoot.nl/gebeurtenis/lezing-in-t-dierenparadijs/
LOCATION:Dierenparadijs\, Dorpsstraat 136\, Zoetermeer\, Zuid Holland\, 2712 AN\, Nederland
CATEGORIES:Mijn agenda
ATTACH;FMTTYPE=image/jpeg:https://degoudenhondenpoot.nl/wp-content/uploads/2023/11/lezing-vuurwerk-en-je-hond.jpg
END:VEVENT
END:VCALENDAR